BEGIN:VCALENDAR
VERSION:2.0
PRODID:-//Gospelchor-Joy-and-Light - ECPv6.15.20//NONSGML v1.0//EN
CALSCALE:GREGORIAN
METHOD:PUBLISH
X-WR-CALNAME:Gospelchor-Joy-and-Light
X-ORIGINAL-URL:https://www.joyandlight.de/ueber-uns
X-WR-CALDESC:Veranstaltungen für Gospelchor-Joy-and-Light
REFRESH-INTERVAL;VALUE=DURATION:PT1H
X-Robots-Tag:noindex
X-PUBLISHED-TTL:PT1H
BEGIN:VTIMEZONE
TZID:Europe/Berlin
BEGIN:DAYLIGHT
TZOFFSETFROM:+0100
TZOFFSETTO:+0200
TZNAME:CEST
DTSTART:20240331T010000
END:DAYLIGHT
BEGIN:STANDARD
TZOFFSETFROM:+0200
TZOFFSETTO:+0100
TZNAME:CET
DTSTART:20241027T010000
END:STANDARD
BEGIN:DAYLIGHT
TZOFFSETFROM:+0100
TZOFFSETTO:+0200
TZNAME:CEST
DTSTART:20250330T010000
END:DAYLIGHT
BEGIN:STANDARD
TZOFFSETFROM:+0200
TZOFFSETTO:+0100
TZNAME:CET
DTSTART:20251026T010000
END:STANDARD
BEGIN:DAYLIGHT
TZOFFSETFROM:+0100
TZOFFSETTO:+0200
TZNAME:CEST
DTSTART:20260329T010000
END:DAYLIGHT
BEGIN:STANDARD
TZOFFSETFROM:+0200
TZOFFSETTO:+0100
TZNAME:CET
DTSTART:20261025T010000
END:STANDARD
END:VTIMEZONE
BEGIN:VEVENT
DTSTART;TZID=Europe/Berlin:20251108T190000
DTEND;TZID=Europe/Berlin:20251108T190000
DTSTAMP:20260419T185410
CREATED:20251019T070852Z
LAST-MODIFIED:20251022T085619Z
UID:1048-1762628400-1762628400@www.joyandlight.de
SUMMARY:Gospelbreak - "Das Gute"
DESCRIPTION:"Gospelbreak" - Gospelkonzert und Literatur\n"Das Gute" steht über diesem Abend mit Musik und Poesie als \nAufforderung es anzunehmen und aufzuheben wie es zufällt\, sich berühren \nzu lassen und mit Begeisterung umzusetzen: einfach ganz dabei zu sein.
URL:https://www.joyandlight.de/ueber-uns/event/gospelbreak-das-gute/
LOCATION:Lutherkirche Fellbach\, Kirchplatz 1\, Fellbach\, 70734\, Deutschland
END:VEVENT
BEGIN:VEVENT
DTSTART;TZID=Europe/Berlin:20251130T170000
DTEND;TZID=Europe/Berlin:20251130T170000
DTSTAMP:20260419T185410
CREATED:20251002T080050Z
LAST-MODIFIED:20251021T092632Z
UID:709-1764522000-1764522000@www.joyandlight.de
SUMMARY:Adventskonzert
DESCRIPTION:  \n 
URL:https://www.joyandlight.de/ueber-uns/event/adventskonzert-2/
LOCATION:Lutherkirche Fellbach\, Kirchplatz 1\, Fellbach\, 70734\, Deutschland
END:VEVENT
END:VCALENDAR