BEGIN:VCALENDAR
VERSION:2.0
PRODID:-//Gospelchor-Joy-and-Light - ECPv6.15.20//NONSGML v1.0//EN
CALSCALE:GREGORIAN
METHOD:PUBLISH
X-WR-CALNAME:Gospelchor-Joy-and-Light
X-ORIGINAL-URL:https://www.joyandlight.de/ueber-uns
X-WR-CALDESC:Veranstaltungen für Gospelchor-Joy-and-Light
REFRESH-INTERVAL;VALUE=DURATION:PT1H
X-Robots-Tag:noindex
X-PUBLISHED-TTL:PT1H
BEGIN:VTIMEZONE
TZID:Europe/Berlin
BEGIN:DAYLIGHT
TZOFFSETFROM:+0100
TZOFFSETTO:+0200
TZNAME:CEST
DTSTART:20240331T010000
END:DAYLIGHT
BEGIN:STANDARD
TZOFFSETFROM:+0200
TZOFFSETTO:+0100
TZNAME:CET
DTSTART:20241027T010000
END:STANDARD
BEGIN:DAYLIGHT
TZOFFSETFROM:+0100
TZOFFSETTO:+0200
TZNAME:CEST
DTSTART:20250330T010000
END:DAYLIGHT
BEGIN:STANDARD
TZOFFSETFROM:+0200
TZOFFSETTO:+0100
TZNAME:CET
DTSTART:20251026T010000
END:STANDARD
BEGIN:DAYLIGHT
TZOFFSETFROM:+0100
TZOFFSETTO:+0200
TZNAME:CEST
DTSTART:20260329T010000
END:DAYLIGHT
BEGIN:STANDARD
TZOFFSETFROM:+0200
TZOFFSETTO:+0100
TZNAME:CET
DTSTART:20261025T010000
END:STANDARD
END:VTIMEZONE
BEGIN:VEVENT
DTSTART;TZID=Europe/Berlin:20250720T190000
DTEND;TZID=Europe/Berlin:20250720T190000
DTSTAMP:20260420T012329
CREATED:20250123T065324Z
LAST-MODIFIED:20250624T082754Z
UID:1017-1753038000-1753038000@www.joyandlight.de
SUMMARY:Sommerkonzert 2025
DESCRIPTION:Wir laden euch herzlich zu unserem traditionellen Sommerkonzert in der Lutherkirche ein. \nAchtung:  Dieses Mal beginnt das Konzert um 19:00!
URL:https://www.joyandlight.de/ueber-uns/event/sommerkonzert-2025/
LOCATION:Lutherkirche Fellbach\, Kirchplatz 1\, Fellbach\, 70734\, Deutschland
END:VEVENT
END:VCALENDAR